BEGIN:VCALENDAR
VERSION:2.0
PRODID:-//Prayer Warriors 365 - ECPv6.15.20//NONSGML v1.0//EN
CALSCALE:GREGORIAN
METHOD:PUBLISH
X-WR-CALNAME:Prayer Warriors 365
X-ORIGINAL-URL:https://www.prayerwarriors365.com
X-WR-CALDESC:Events for Prayer Warriors 365
REFRESH-INTERVAL;VALUE=DURATION:PT1H
X-Robots-Tag:noindex
X-PUBLISHED-TTL:PT1H
BEGIN:VTIMEZONE
TZID:America/Chicago
BEGIN:DAYLIGHT
TZOFFSETFROM:-0600
TZOFFSETTO:-0500
TZNAME:CDT
DTSTART:20250309T080000
END:DAYLIGHT
BEGIN:STANDARD
TZOFFSETFROM:-0500
TZOFFSETTO:-0600
TZNAME:CST
DTSTART:20251102T070000
END:STANDARD
BEGIN:DAYLIGHT
TZOFFSETFROM:-0600
TZOFFSETTO:-0500
TZNAME:CDT
DTSTART:20260308T080000
END:DAYLIGHT
BEGIN:STANDARD
TZOFFSETFROM:-0500
TZOFFSETTO:-0600
TZNAME:CST
DTSTART:20261101T070000
END:STANDARD
BEGIN:DAYLIGHT
TZOFFSETFROM:-0600
TZOFFSETTO:-0500
TZNAME:CDT
DTSTART:20270314T080000
END:DAYLIGHT
BEGIN:STANDARD
TZOFFSETFROM:-0500
TZOFFSETTO:-0600
TZNAME:CST
DTSTART:20271107T070000
END:STANDARD
END:VTIMEZONE
BEGIN:VEVENT
DTSTART;TZID=America/Chicago:20260320T200000
DTEND;TZID=America/Chicago:20260320T213000
DTSTAMP:20260425T065148
CREATED:20260318T213335Z
LAST-MODIFIED:20260321T001020Z
UID:10222-1774036800-1774042200@www.prayerwarriors365.com
SUMMARY:🙏PW365: SPIRITUAL REALM: ANGELS FIGHTING FOR US? (Video)- FRI\, MAR 20/21\, 2026 ⚔️
DESCRIPTION:Prayer Warriors 365 Weekly Group Meeting\nFriday\, March 20\, 2026\, @ 8:00 PM CST in Austin\, Texas. \nThis week’s teaching\, “Inside the Spirit Realm: How Angels Actually Fight for Us\,” reveals the biblical truth about angels as powerful warriors engaged in spiritual battles on our behalf. \nThrough examples like Daniel’s 21-day delay\, we see that when prayers seem unanswered\, activity is often taking place in the unseen realm. Our prayers matter—they partner with heaven and help release God’s will on earth. \nJoin us Friday night as we grow in understanding and stand in faith\, trusting that God is always at work behind the scenes. \nBlessings\,Prayer Warriors 365 🙏 \nTHIS WEEK\nYouTube Video\nSPIRITUAL REALM: ANGELS FIGHTING FOR US? (Video) \nZOOM ROOM LINK: \nJoin Zoom Meeting Link\nhttps://us02web.zoom.us/j/85255014480  \nMeeting ID: 852 5501 4480 \nTIME AND DATE CONVERSION HERE \nPLEASE NOTE: We are now in Daylight Saving Time in the US and have lost an hour. We have moved our Friday night meeting to 8:00 PM CST (Daylight Saving Time) for the US. The chart below shows the time in your country. \nNOTE: BACK TO STANDARD TIME IN THE US AS OF NOV 2ND  :\nTIME SCHEDULE: (Time change only for the US) \nCity\,Country\,Local Date\,Local Time\,Time Zone\nAustin\,USA\,”Fri\, Mar 20\, 2026″\,8:00 pm\,CDT\nMemphis\,USA\,”Fri\, Mar 20\, 2026″\,8:00 pm\,CDT\nMiami\,USA\,”Fri\, Mar 20\, 2026″\,9:00 pm\,EDT\nWashington DC\,USA\,”Fri\, Mar 20\, 2026″\,9:00 pm\,EDT\nColumbia\,USA\,”Fri\, Mar 20\, 2026″\,9:00 pm\,EDT\nCuritiba\,Brazil\,”Fri\, Mar 20\, 2026″\,10:00 pm\,BRT\nMoscow\,Russia\,”Sat\, Mar 21\, 2026″\,4:00 am\,MSK\nIslamabad\,Pakistan\,”Sat\, Mar 21\, 2026″\,6:00 am\,PKT\nTehran\,Iran\,”Sat\, Mar 21\, 2026″\,4:30 am\,IRST\nBandung\,Indonesia\,”Sat\, Mar 21\, 2026″\,8:00 am\,WIB\nTokyo\,Japan\,”Sat\, Mar 21\, 2026″\,10:00 am\,JST\nMelbourne\,Australia\,”Sat\, Mar 21\, 2026″\,12:00 noon\,AEDT \nOne tap mobile\n+13462487799\,\,85255014480# US (Houston)\n+12532050468\,\,85255014480# US \nJoin instructions\nhttps://us02web.zoom.us/meetings/85255014480/invitations?signature=MCOgCq65m-97MY2UhBa3MDFYoGZIa3FdYo5BgeNZcUI \n 
URL:https://www.prayerwarriors365.com/event/%f0%9f%99%8fpw365-spiritual-realm-angels-fighting-for-us-video-mar-20-21-2026-%e2%9a%94%ef%b8%8f/
LOCATION:PW365 Weekly Prayer Group
CATEGORIES:Prayer Warriors 365 Group
ATTACH;FMTTYPE=image/jpeg:https://www.prayerwarriors365.com/wp-content/uploads/2026/03/Angels-Inside-the-Spiritual-Realm-YouTube-3-21-2026.jpg
ORGANIZER;CN="Prayer Warriors 365":MAILTO:contact@prayerwarriors365.com
END:VEVENT
END:VCALENDAR