BEGIN:VCALENDAR
VERSION:2.0
PRODID:-//Prayer Warriors 365 - ECPv6.15.20//NONSGML v1.0//EN
CALSCALE:GREGORIAN
METHOD:PUBLISH
X-ORIGINAL-URL:https://www.prayerwarriors365.com
X-WR-CALDESC:Events for Prayer Warriors 365
REFRESH-INTERVAL;VALUE=DURATION:PT1H
X-Robots-Tag:noindex
X-PUBLISHED-TTL:PT1H
BEGIN:VTIMEZONE
TZID:America/Chicago
BEGIN:DAYLIGHT
TZOFFSETFROM:-0600
TZOFFSETTO:-0500
TZNAME:CDT
DTSTART:20250309T080000
END:DAYLIGHT
BEGIN:STANDARD
TZOFFSETFROM:-0500
TZOFFSETTO:-0600
TZNAME:CST
DTSTART:20251102T070000
END:STANDARD
BEGIN:DAYLIGHT
TZOFFSETFROM:-0600
TZOFFSETTO:-0500
TZNAME:CDT
DTSTART:20260308T080000
END:DAYLIGHT
BEGIN:STANDARD
TZOFFSETFROM:-0500
TZOFFSETTO:-0600
TZNAME:CST
DTSTART:20261101T070000
END:STANDARD
BEGIN:DAYLIGHT
TZOFFSETFROM:-0600
TZOFFSETTO:-0500
TZNAME:CDT
DTSTART:20270314T080000
END:DAYLIGHT
BEGIN:STANDARD
TZOFFSETFROM:-0500
TZOFFSETTO:-0600
TZNAME:CST
DTSTART:20271107T070000
END:STANDARD
END:VTIMEZONE
BEGIN:VEVENT
DTSTART;TZID=America/Chicago:20260313T200000
DTEND;TZID=America/Chicago:20260313T220000
DTSTAMP:20260425T065927
CREATED:20260312T135613Z
LAST-MODIFIED:20260312T135854Z
UID:10192-1773432000-1773439200@www.prayerwarriors365.com
SUMMARY:🙏PW365: School of Prayer- LESSON 20: MINISTRY OF INTERCESSION- MAR 13/14\, 2026⚔️
DESCRIPTION:Greetings Prayer Warriors 365\, \nPrayer Warriors 365 Weekly Group Meeting\nFriday\, March 13\, 2026\, @ 8:00 PM CST in Austin\, Texas. \nIn this week’s message from Andrew Murray’s book\, “With Christ in the School of Prayer\,” specifically LESSON 30: THE MINISTRY OF INTERCESSION  \nThe Ministry of Intercession reminds us that through Jesus Christ\, every believer has been called into a holy priesthood. Just as Christ was anointed by the Spirit as our High Priest\, we too are anointed and sealed by the Holy Spirit to share in His ministry. Like the oil that flowed from Aaron’s head to his garments\, Christ’s anointing flows to all who belong to Him. \nOne of the greatest expressions of this calling is intercession—standing before God in prayer for others. Christ continually intercedes for us\, and through Him we are invited to do the same. Intercession is both our privilege and our calling as we draw near to God. \nWith Christ in Prayer\, \nRegina M. Dick \nTHIS WEEK: \nAndrew Murray\nWith Christ in the School of Prayer\nLESSON 30: THE MINISTRY OF INTERCESSION ⚔️ \nGet the book on Amazon\nWith Christ School of Prayer (Book or Kindle)\nhttps://amzn.to/4dBjlCd \nZOOM ROOM LINK: \nJoin Zoom Meeting Link\nhttps://us02web.zoom.us/j/85255014480  \nMeeting ID: 852 5501 4480 \nTIME AND DATE CONVERSION HERE \nPLEASE NOTE: We are now in Daylight Saving Time in the US and have lost an hour. We have moved our Friday night meeting to 8:00 PM CST (Daylight Saving Time) for the US. The chart below shows the time in your country. \nNOTE: BACK TO STANDARDTIME IN THE US AS OF NOV 2ND  :\nTIME SCHEDULE: (Time change only for the US) \nAustin\, USA            Fri\, Mar 13\, 2026 at 8:00 pm CDT\nMemphis\, USA           Fri\, Mar 13\, 2026 at 8:00 pm CDT\nMiami\, USA             Fri\, Mar 13\, 2026 at 9:00 pm EDT\nWashington DC\, USA     Fri\, Mar 13\, 2026 at 9:00 pm EDT\nColumbia\, USA          Fri\, Mar 13\, 2026 at 9:00 pm EDT\nCuritiba\, Brazil       Fri\, Mar 13\, 2026 at 10:00 pm BRT\nMoscow\, Russia         Sat\, Mar 14\, 2026 at 4:00 am MSK\nIslamabad\, Pakistan    Sat\, Mar 14\, 2026 at 6:00 am PKT\nTehran\, Iran           Sat\, Mar 14\, 2026 at 4:30 am IRST\nBandung\, Indonesia     Sat\, Mar 14\, 2026 at 8:00 am WIB\nPerth\, Australia       Sat\, Mar 14\, 2026 at 9:00 am AWST\nTokyo\, Japan           Sat\, Mar 14\, 2026 at 10:00 am JST— \nOne tap mobile\n+13462487799\,\,85255014480# US (Houston)\n+12532050468\,\,85255014480# US \nJoin instructions\nhttps://us02web.zoom.us/meetings/85255014480/invitations?signature=MCOgCq65m-97MY2UhBa3MDFYoGZIa3FdYo5BgeNZcUI
URL:https://www.prayerwarriors365.com/event/%f0%9f%99%8fpw365-school-of-prayer-lesson-20-ministry-of-intercession-mar-13-14-2026%e2%9a%94%ef%b8%8f/
CATEGORIES:Prayer Warriors 365 Group
ATTACH;FMTTYPE=image/jpeg:https://www.prayerwarriors365.com/wp-content/uploads/2026/03/INTERCESSORY-PRAYER-WARRIOR-PW365.org_.jpg
END:VEVENT
BEGIN:VEVENT
DTSTART;TZID=America/Chicago:20260319T200000
DTEND;TZID=America/Chicago:20260319T210000
DTSTAMP:20260425T065927
CREATED:20260318T212041Z
LAST-MODIFIED:20260319T152846Z
UID:10220-1773950400-1773954000@www.prayerwarriors365.com
SUMMARY:🙏⚔️PW365 Daily Spiritual Warfare Prayer THURS\, MAR 19/20\, 2026
DESCRIPTION:Today! Daily Spiritual Warfare Prayer\nThursday\, March 19\, 2026\, @ 8:00 PM CST\, Austin\, Texas \nPrayer Warriors 365 is a community of believers committed to daily intercessory prayer throughout the year. Through unified prayer\, members stand in the gap for individuals\, families\, communities\, and nations—seeking God’s guidance\, healing\, and breakthrough. By praying Scripture and lifting needs before the Lord each day\, Prayer Warriors 365 strengthens faith\, encourages spiritual unity\, and advances God’s work through the power of persistent\, faithful prayer. 🙏✨ \nJoin Zoom Meeting\nhttps://us02web.zoom.us/j/85106027120?pwd=ncRA5ooWAJzK6BJ0kax43bIIygc21r.1 \nMeeting ID: 851 0602 7120\nPasscode: 259563 \nPLEASE NOTE: We are now in Daylight Saving Time in the US and have lost an hour. Therefore\, to accommodate as many as possible\, we have set the time 30 minutes forward for US participants and 30 minutes backward for our International participants. ( See Time conversion chart below). \nIt may be a little confusing at first\, so keep an eye on your emails. Time changes for the RPoP Beta Wednesday meetings and the PW365 Friday/Saturday prayer meeting will also be adjusted. \nWe will begin in approximately one hour! \nThis is the Zoom invitation for our daily PW365 Spiritual Warfare 365 meeting beginning at 8:00 PM CST for those who would like to join us in daily intercessory prayer. \nCity\,Country\,Local Date\,Local Time\,Time Zone\nAustin\,USA\,”Thu\, Mar 19\, 2026″\,8:00 pm\,CDT\nWashington DC\,USA\,”Thu\, Mar 19\, 2026″\,9:00 pm\,EDT\nSalt Lake City\,USA\,”Thu\, Mar 19\, 2026″\,7:00 pm\,MDT\nLos Angeles\,USA\,”Thu\, Mar 19\, 2026″\,6:00 pm\,PDT\nCuritiba\,Brazil\,”Thu\, Mar 19\, 2026″\,10:00 pm\,BRT\nTehran\,Iran\,”Fri\, Mar 20\, 2026″\,4:30 am\,IRST\nIslamabad\,Pakistan\,”Fri\, Mar 20\, 2026″\,6:00 am\,PKT\nBandung\,Indonesia\,”Fri\, Mar 20\, 2026″\,8:00 am\,WIB\nTokyo\,Japan\,”Fri\, Mar 20\, 2026″\,10:00 am\,JST\nMelbourne\,Australia\,”Fri\, Mar 20\, 2026″\,12:00 noon\,AEDT \nTIME ZONE CONVERTER \nIf you would like to be taken off the daily email reminder list\, please let me know. \nBlessings always\, \nRegina \nJoin Zoom Meeting\nhttps://us02web.zoom.us/j/85106027120?pwd=ncRA5ooWAJzK6BJ0kax43bIIygc21r.1 \nMeeting ID: 851 0602 7120\nPasscode: 259563 \n— \nOne tap mobile\n+13462487799\,\,85106027120#\,\,\,\,*259563# US (Houston)\n+12532050468\,\,85106027120#\,\,\,\,*259563#
URL:https://www.prayerwarriors365.com/event/%f0%9f%99%8f%e2%9a%94%ef%b8%8fpw365-daily-spiritual-warfare-prayer-thurs-mar-19-20-2026/
CATEGORIES:Daily Intercessory PW365
ATTACH;FMTTYPE=image/jpeg:https://www.prayerwarriors365.com/wp-content/uploads/2026/03/Daily-Prayer-image.jpg
ORGANIZER;CN="Prayer Warriors 365":MAILTO:contact@prayerwarriors365.com
END:VEVENT
BEGIN:VEVENT
DTSTART;TZID=America/Chicago:20260326T200000
DTEND;TZID=America/Chicago:20260326T210000
DTSTAMP:20260425T065927
CREATED:20260325T205400Z
LAST-MODIFIED:20260325T205400Z
UID:10262-1774555200-1774558800@www.prayerwarriors365.com
SUMMARY:🙏⚔️PW365 Daily Spiritual Warfare Prayer THUR\, 26/27\, 2026
DESCRIPTION:Today! Daily Spiritual Warfare Prayer\nThursday\, March 26\, 2026\, @ 8:00 PM CST\, Austin\, Texas \nPrayer Warriors 365 is a community of believers committed to daily intercessory prayer throughout the year. Through unified prayer\, members stand in the gap for individuals\, families\, communities\, and nations—seeking God’s guidance\, healing\, and breakthrough. By praying Scripture and lifting needs before the Lord each day\, Prayer Warriors 365 strengthens faith\, encourages spiritual unity\, and advances God’s work through the power of persistent\, faithful prayer. 🙏✨ \nJoin Zoom Meeting\nhttps://us02web.zoom.us/j/85106027120?pwd=ncRA5ooWAJzK6BJ0kax43bIIygc21r.1 \nMeeting ID: 851 0602 7120\nPasscode: 259563 \nPLEASE NOTE: We are now in Daylight Saving Time in the US and have lost an hour. Therefore\, to accommodate as many as possible\, we have set the time 30 minutes forward for US participants and 30 minutes backward for our International participants. ( See Time conversion chart below). \nIt may be a little confusing at first\, so keep an eye on your emails. Time changes for the RPoP Beta Wednesday meetings and the PW365 Friday/Saturday prayer meeting will also be adjusted. \nWe will begin in approximately one hour! \nThis is the Zoom invitation for our daily PW365 Spiritual Warfare 365 meeting beginning at 8:00 PM CST for those who would like to join us in daily intercessory prayer. \nAustin\, USA Thu\, Mar 26\, 2026 at 8:00 pm CDT\nWashington DC\, USA Thu\, Mar 26\, 2026 at 9:00 pm EDT\nSalt Lake City\, USA Thu\, Mar 26\, 2026 at 7:00 pm MDT\nLos Angeles\, USA Thu\, Mar 26\, 2026 at 6:00 pm PDT\nCuritiba\, Brazil Thu\, Mar 26\, 2026 at 10:00 pm BRT\nTehran\, Iran Fri\, Mar 27\, 2026 at 4:30 am IRST\nIslamabad\, Pakistan Fri\, Mar 27\, 2026 at 6:00 am PKT\nBandung\, Indonesia Fri\, Mar 27\, 2026 at 8:00 am WIB\nTokyo\, Japan Fri\, Mar 27\, 2026 at 10:00 am JST\nMelbourne\, Australia Fri\, Mar 27\, 2026 at 12:00 noon AEDT \nTIME ZONE CONVERTER \nIf you would like to be taken off the daily email reminder list\, please let me know. \nBlessings always\, \nRegina \nJoin Zoom Meeting\nhttps://us02web.zoom.us/j/85106027120?pwd=ncRA5ooWAJzK6BJ0kax43bIIygc21r.1 \nMeeting ID: 851 0602 7120\nPasscode: 259563 \n— \nOne tap mobile\n+13462487799\,\,85106027120#\,\,\,\,*259563# US (Houston)\n+12532050468\,\,85106027120#\,\,\,\,*259563#
URL:https://www.prayerwarriors365.com/event/%f0%9f%99%8f%e2%9a%94%ef%b8%8fpw365-daily-spiritual-warfare-prayer-thur-26-27-2026/
LOCATION:Daily Spiritual Warfare Prayer
CATEGORIES:Daily Intercessory PW365
ATTACH;FMTTYPE=image/jpeg:https://www.prayerwarriors365.com/wp-content/uploads/2026/03/Daily-Prayer-image.jpg
ORGANIZER;CN="Prayer Warriors 365":MAILTO:contact@prayerwarriors365.com
END:VEVENT
END:VCALENDAR