BEGIN:VCALENDAR
VERSION:2.0
PRODID:-//Prayer Warriors 365 - ECPv6.15.20//NONSGML v1.0//EN
CALSCALE:GREGORIAN
METHOD:PUBLISH
X-WR-CALNAME:Prayer Warriors 365
X-ORIGINAL-URL:https://www.prayerwarriors365.com
X-WR-CALDESC:Events for Prayer Warriors 365
REFRESH-INTERVAL;VALUE=DURATION:PT1H
X-Robots-Tag:noindex
X-PUBLISHED-TTL:PT1H
BEGIN:VTIMEZONE
TZID:America/Chicago
BEGIN:DAYLIGHT
TZOFFSETFROM:-0600
TZOFFSETTO:-0500
TZNAME:CDT
DTSTART:20250309T080000
END:DAYLIGHT
BEGIN:STANDARD
TZOFFSETFROM:-0500
TZOFFSETTO:-0600
TZNAME:CST
DTSTART:20251102T070000
END:STANDARD
BEGIN:DAYLIGHT
TZOFFSETFROM:-0600
TZOFFSETTO:-0500
TZNAME:CDT
DTSTART:20260308T080000
END:DAYLIGHT
BEGIN:STANDARD
TZOFFSETFROM:-0500
TZOFFSETTO:-0600
TZNAME:CST
DTSTART:20261101T070000
END:STANDARD
BEGIN:DAYLIGHT
TZOFFSETFROM:-0600
TZOFFSETTO:-0500
TZNAME:CDT
DTSTART:20270314T080000
END:DAYLIGHT
BEGIN:STANDARD
TZOFFSETFROM:-0500
TZOFFSETTO:-0600
TZNAME:CST
DTSTART:20271107T070000
END:STANDARD
END:VTIMEZONE
BEGIN:VEVENT
DTSTART;TZID=America/Chicago:20260408T200000
DTEND;TZID=America/Chicago:20260408T213000
DTSTAMP:20260423T123952
CREATED:20260407T234306Z
LAST-MODIFIED:20260407T234306Z
UID:10297-1775678400-1775683800@www.prayerwarriors365.com
SUMMARY:⚔️PW365: RPoP 2026 Beta - 008 KINGDOM OF MAN VS KINGDOM OF GOD- ARR 8/9\, 2026 🙏
DESCRIPTION:Greetings\, \nThis week in Restoration & Power of Prayer – Message 008 – Kingdom of Man VS Kingdom of God\, this message uses Maslow’s Hierarchy of Needs to illustrate how the world defines fulfillment and then reframes it through a biblical lens.\n \nKingdom of Man\n\nTemporary and earthly in nature\nDriven by fear\, self‑dependence\, power\, status\, money\, and control\nEngages in external conflict and relies on human strength and understanding\nAdvances through force (“power over”) and self‑interest \n\nKingdom of God\n\nEternal and spiritual\nEntered through being born again and submitting to God’s authority\nCharacterized by trust in God\, peace\, love\, humility\, and transformation\nAdvances through sacrificial love (“power under”)\, carrying the cross instead of the sword\nSeeks inner transformation rather than external control\n\n\nTrue victory\, peace\, and purpose are found not in the Kingdom of Man\,  \nbut in surrendering the inner life to Jesus Christ and living daily under the transforming power of the Kingdom of God. \nIn His love and service\,\nRestoration & Power of Prayer \nRegina M. Dick \nTHIS WEEK \nRestoration & Power of Prayer\n008 – Kingdom of Man VS Kingdom of God \n \nDATE: April 8/9\, 2026\nTIME: 8:00 PM C.S.T. \nWorld Time Converter \n\nRestoration & Power of Prayer Zoom Link \nJoin Zoom Meeting\nhttps://us02web.zoom.us/j/83688136753?pwd=QEeXEbHaViviOTHI5GbyVazbLGy24F.1 \nMeeting ID: 836 8813 6753\nPasscode: 850201 \nNOTE: New Meeting Times for everyone.   \nCity Country Local Date Local Time Time Zone\nAustin USA Wed\, Apr 8\, 2026 8:00 pm CDT\nHampton USA Wed\, Apr 8\, 2026 9:00 pm EDT\nDenver USA Wed\, Apr 8\, 2026 7:00 pm MDT\nLos Angeles USA Wed\, Apr 8\, 2026 6:00 pm PDT\nCuritiba Brazil Wed\, Apr 8\, 2026 10:00 pm BRT\nIslamabad Pakistan Thu\, Apr 9\, 2026 6:00 am PKT\nPerth Australia Thu\, Apr 9\, 2026 9:00 am AWST\nBandung Indonesia Thu\, Apr 9\, 2026 8:00 am WIB\nTokyo Japan Thu\, Apr 9\, 2026 10:00 am JST \n World Time Converter
URL:https://www.prayerwarriors365.com/event/%e2%9a%94%ef%b8%8fpw365-rpop-2026-beta-008-kingdom-of-man-vs-kingdom-of-god-arr-8-9-2026-%f0%9f%99%8f/
LOCATION:Restoration & Power of Prayer 2026 Beta\, United States
CATEGORIES:RPoP 2026 Beta Group
ATTACH;FMTTYPE=image/jpeg:https://www.prayerwarriors365.com/wp-content/uploads/2026/04/008-RPoP-Kingdom-of-Man-VS-Kingdom-of-God-2025-PowerPoint-Image.jpg
ORGANIZER;CN="Prayer Warriors 365":MAILTO:contact@prayerwarriors365.com
END:VEVENT
END:VCALENDAR