BEGIN:VCALENDAR
VERSION:2.0
PRODID:-//Prayer Warriors 365 - ECPv6.15.20//NONSGML v1.0//EN
CALSCALE:GREGORIAN
METHOD:PUBLISH
X-WR-CALNAME:Prayer Warriors 365
X-ORIGINAL-URL:https://www.prayerwarriors365.com
X-WR-CALDESC:Events for Prayer Warriors 365
REFRESH-INTERVAL;VALUE=DURATION:PT1H
X-Robots-Tag:noindex
X-PUBLISHED-TTL:PT1H
BEGIN:VTIMEZONE
TZID:America/Chicago
BEGIN:DAYLIGHT
TZOFFSETFROM:-0600
TZOFFSETTO:-0500
TZNAME:CDT
DTSTART:20250309T080000
END:DAYLIGHT
BEGIN:STANDARD
TZOFFSETFROM:-0500
TZOFFSETTO:-0600
TZNAME:CST
DTSTART:20251102T070000
END:STANDARD
BEGIN:DAYLIGHT
TZOFFSETFROM:-0600
TZOFFSETTO:-0500
TZNAME:CDT
DTSTART:20260308T080000
END:DAYLIGHT
BEGIN:STANDARD
TZOFFSETFROM:-0500
TZOFFSETTO:-0600
TZNAME:CST
DTSTART:20261101T070000
END:STANDARD
BEGIN:DAYLIGHT
TZOFFSETFROM:-0600
TZOFFSETTO:-0500
TZNAME:CDT
DTSTART:20270314T080000
END:DAYLIGHT
BEGIN:STANDARD
TZOFFSETFROM:-0500
TZOFFSETTO:-0600
TZNAME:CST
DTSTART:20271107T070000
END:STANDARD
END:VTIMEZONE
BEGIN:VEVENT
DTSTART;TZID=America/Chicago:20260415T200000
DTEND;TZID=America/Chicago:20260415T213000
DTSTAMP:20260423T125705
CREATED:20260415T000508Z
LAST-MODIFIED:20260415T002707Z
UID:10322-1776283200-1776288600@www.prayerwarriors365.com
SUMMARY:⚔️PW365: RPoP 2026 Beta 009 SPIRITUAL WARFARE -Stand Firm! WED ARR 15/16\, 2026 🙏
DESCRIPTION:Greetings\, \nThis week in Restoration & Power of Prayer – Message 009 – SPIRITUAL WARFARE –Stand Firm focuses on spiritual warfare and the importance of recognizing the true battle. Scripture reminds us that we are not fighting against flesh and blood\, but against spiritual forces that are unseen. When we misidentify the enemy\, we become distracted and stuck in cycles of frustration and defeat. \nThere are two opposing kingdoms at work\, but the good news is this: Christ has already secured the victory. Through His death and resurrection\, the enemy has been disarmed. We don’t fight for victory—we fight from victory. \nThe battlefield is often the mind. Deception\, lies\, and distorted beliefs can take root if left unchecked\, becoming strongholds that shape our thoughts and actions. That’s why we are called to remain spiritually alert—taking every thought captive and aligning it with God’s truth. \nRestoration comes as we daily surrender to God\, resist the enemy\, and stay anchored in prayer. Victory is not just theoretical—it’s something we walk out one step at a time. \nIn His love and service\,\nRestoration & Power of Prayer \nRegina M. Dick \nTHIS WEEK \nRestoration & Power of Prayer\n008 -SPIRITUAL WARFARE –Stand Firm! \n \nDATE: April 15/16\, 2026\nTIME: 8:00 PM C.S.T. \nWorld Time Converter \nRestoration & Power of Prayer Zoom Link \nJoin Zoom Meeting\nhttps://us02web.zoom.us/j/83688136753?pwd=QEeXEbHaViviOTHI5GbyVazbLGy24F.1 \nMeeting ID: 836 8813 6753\nPasscode: 850201 \nNOTE: New Meeting Times for everyone.   \nAustin\, USA Wed\, Apr 15\, 2026 at 8:00 pm CDT\nHampton\, USA Wed\, Apr 15\, 2026 at 9:00 pm EDT\nDenver\, USA Wed\, Apr 15\, 2026 at 7:00 pm MDT\nLos Angeles\, USA Wed\, Apr 15\, 2026 at 6:00 pm PDT\nCuritiba\, Brazil Wed\, Apr 15\, 2026 at 10:00 pm BRT\nIslamabad\, Pakistan Thu\, Apr 16\, 2026 at 6:00 am PKT\nPerth\, Australia Thu\, Apr 16\, 2026 at 9:00 am AWST\nBandung\, Indonesia Thu\, Apr 16\, 2026 at 8:00 am WIB\nTokyo\, Japan Thu\, Apr 16\, 2026 at 10:00 am JST \n World Time Converter
URL:https://www.prayerwarriors365.com/event/%e2%9a%94%ef%b8%8fpw365-rpop-2026-beta-008-kingdom-of-man-vs-kingdom-of-god-arr-8-9-2026-%f0%9f%99%8f-copy/
LOCATION:Restoration & Power of Prayer 2026 Beta\, United States
CATEGORIES:RPoP 2026 Beta Group
ATTACH;FMTTYPE=image/jpeg:https://www.prayerwarriors365.com/wp-content/uploads/2021/06/009-RPoP-Spiritual-Warfare-2021-Image.jpg
ORGANIZER;CN="Prayer Warriors 365":MAILTO:contact@prayerwarriors365.com
END:VEVENT
END:VCALENDAR