BEGIN:VCALENDAR
VERSION:2.0
PRODID:-//Prayer Warriors 365 - ECPv6.15.20//NONSGML v1.0//EN
CALSCALE:GREGORIAN
METHOD:PUBLISH
X-ORIGINAL-URL:https://www.prayerwarriors365.com
X-WR-CALDESC:Events for Prayer Warriors 365
REFRESH-INTERVAL;VALUE=DURATION:PT1H
X-Robots-Tag:noindex
X-PUBLISHED-TTL:PT1H
BEGIN:VTIMEZONE
TZID:America/Chicago
BEGIN:DAYLIGHT
TZOFFSETFROM:-0600
TZOFFSETTO:-0500
TZNAME:CDT
DTSTART:20250309T080000
END:DAYLIGHT
BEGIN:STANDARD
TZOFFSETFROM:-0500
TZOFFSETTO:-0600
TZNAME:CST
DTSTART:20251102T070000
END:STANDARD
BEGIN:DAYLIGHT
TZOFFSETFROM:-0600
TZOFFSETTO:-0500
TZNAME:CDT
DTSTART:20260308T080000
END:DAYLIGHT
BEGIN:STANDARD
TZOFFSETFROM:-0500
TZOFFSETTO:-0600
TZNAME:CST
DTSTART:20261101T070000
END:STANDARD
BEGIN:DAYLIGHT
TZOFFSETFROM:-0600
TZOFFSETTO:-0500
TZNAME:CDT
DTSTART:20270314T080000
END:DAYLIGHT
BEGIN:STANDARD
TZOFFSETFROM:-0500
TZOFFSETTO:-0600
TZNAME:CST
DTSTART:20271107T070000
END:STANDARD
END:VTIMEZONE
BEGIN:VEVENT
DTSTART;TZID=America/Chicago:20260423T200000
DTEND;TZID=America/Chicago:20260423T210000
DTSTAMP:20260423T111455
CREATED:20260421T230435Z
LAST-MODIFIED:20260421T230738Z
UID:10348-1776974400-1776978000@www.prayerwarriors365.com
SUMMARY:🙏⚔️PW365 Daily Spiritual Warfare Prayer THURS\, APR 23/24\, 2026
DESCRIPTION:Today! Daily Spiritual Warfare Prayer\nThursday\, April 23\, 2026\, @ 8:00 PM CST\, Austin\, Texas \nPrayer Warriors 365 is a community of believers committed to daily intercessory prayer throughout the year. Through unified prayer\, members stand in the gap for individuals\, families\, communities\, and nations—seeking God’s guidance\, healing\, and breakthrough. By praying Scripture and lifting needs before the Lord each day\, Prayer Warriors 365 strengthens faith\, encourages spiritual unity\, and advances God’s work through the power of persistent\, faithful prayer. 🙏✨ \nJoin Zoom Meeting\nhttps://us02web.zoom.us/j/85106027120?pwd=ncRA5ooWAJzK6BJ0kax43bIIygc21r.1 \nMeeting ID: 851 0602 7120\nPasscode: 259563 \nPLEASE NOTE: We are now in Daylight Saving Time in the US and have lost an hour. Therefore\, to accommodate as many as possible\, we have set the time 30 minutes forward for US participants and 30 minutes backward for our International participants. (See Time conversion chart below). \nWe will begin in approximately one hour! \nThis is the Zoom invitation for our daily PW365 Spiritual Warfare 365 meeting beginning at 8:00 PM CST for those who would like to join us in daily intercessory prayer. \nCity Country Local Date Local Time Time Zone\nAustin USA Thu\, Apr 23\, 2026 8:00 pm CDT\nHampton USA Thu\, Apr 23\, 2026 9:00 pm EDT\nDenver USA Thu\, Apr 23\, 2026 7:00 pm MDT\nLos Angeles USA Thu\, Apr 23\, 2026 6:00 pm PDT\nCuritiba Brazil Thu\, Apr 23\, 2026 10:00 pm BRT\nIslamabad Pakistan Fri\, Apr 24\, 2026 6:00 am PKT\nPerth Australia Fri\, Apr 24\, 2026 9:00 am AWST\nBandung Indonesia Fri\, Apr 24\, 2026 8:00 am WIB\nTokyo Japan Fri\, Apr 24\, 2026 10:00 am JST \nTIME ZONE CONVERTER \nIf you would like to be taken off the daily email reminder list\, please let me know. \nBlessings always\, \nRegina \nJoin Zoom Meeting\nhttps://us02web.zoom.us/j/85106027120?pwd=ncRA5ooWAJzK6BJ0kax43bIIygc21r.1 \nMeeting ID: 851 0602 7120\nPasscode: 259563 \n— \nOne tap mobile\n+13462487799\,\,85106027120#\,\,\,\,*259563# US (Houston)\n+12532050468\,\,85106027120#\,\,\,\,*259563#
URL:https://www.prayerwarriors365.com/event/pw365-daily-spiritual-warfare-prayer-thurs-apr-2324-2026/
LOCATION:Daily Spiritual Warfare Prayer
CATEGORIES:Daily Intercessory PW365
ATTACH;FMTTYPE=image/jpeg:https://www.prayerwarriors365.com/wp-content/uploads/2026/03/Daily-Prayer-image.jpg
ORGANIZER;CN="Prayer Warriors 365":MAILTO:contact@prayerwarriors365.com
END:VEVENT
BEGIN:VEVENT
DTSTART;TZID=America/Chicago:20260424T200000
DTEND;TZID=America/Chicago:20260424T213000
DTSTAMP:20260423T111455
CREATED:20260423T160348Z
LAST-MODIFIED:20260423T161151Z
UID:10350-1777060800-1777066200@www.prayerwarriors365.com
SUMMARY:🙏PW365: Stay Ready? The Separation Jesus Said Would Come (Video)- APR 24/25\, 2026 ⚔️
DESCRIPTION:THIS WEEK\nYouTube Video\nSTAY READY! THE SEPARATION JESUS SAID WOULD COME (Video) \n\n\n\nContinuing from what Nancy Bergeron presented last week\, let’s move on to deeper spiritual food for those who sense the “Holy Hunger.” This week\, our Friday night PW365 Group will present the YouTube video titled “The Separation Jesus Said Would Come.” Stay ready? \n\n\n\nI want to share an important message that speaks directly to the times we are living in. It centers on the separation Jesus said would come before the unfolding of end-time events. Throughout Scripture\, we see a consistent pattern—before God moves in a significant way\, He first separates. He draws a clear distinction between those who are fully His and those who are not\, between what is holy and what is compromised. \nThis message reveals that such a separation is not only coming\, but already beginning to take place in our generation. \n\n\n\n\n\n\n\n\n\n\nTHIS WEEK :\nYouTube\nBible Prophecy Channel\nSTAY READY! THE SEPARATION JESUS SAID WOULD COME (Video) \nZOOM ROOM LINK: \nJoin Zoom Meeting Link\nhttps://us02web.zoom.us/j/85255014480\nMeeting ID: 852 5501 4480 \nTIME AND DATE CONVERSION \nNOTE: BACK TO SAVING TIME IN THE US : \nTIME SCHEDULE: \nCity Country Local Date Local Time Time Zone\nAustin USA Fri\, Apr 24\, 2026 8:00 pm CDT\nMemphis USA Fri\, Apr 24\, 2026 8:00 pm CDT\nPeoria USA Fri\, Apr 24\, 2026 8:00 pm CDT\nMiami USA Fri\, Apr 24\, 2026 9:00 pm EDT\nWashington DC USA Fri\, Apr 24\, 2026 9:00 pm EDT\nColumbia USA Fri\, Apr 24\, 2026 9:00 pm EDT\nCuritiba Brazil Fri\, Apr 24\, 2026 10:00 pm BRT\nIslamabad Pakistan Sat\, Apr 25\, 2026 6:00 am PKT\nTehran Iran Sat\, Apr 25\, 2026 4:30 am IRST\nBandung Indonesia Sat\, Apr 25\, 2026 8:00 am WIB\nPerth Australia Sat\, Apr 25\, 2026 9:00 am AWST\nTokyo Japan Sat\, Apr 25\, 2026 10:00 am JST \nWORLD TIME ZONE CONVERTER:\nhttps://www.timeanddate.com/worldclock/converter.html \nOne tap mobile\n+13462487799\,\,85255014480# US (Houston)\n+12532050468\,\,85255014480# US
URL:https://www.prayerwarriors365.com/event/pw365-stay-ready-the-separation-jesus-said-would-come-video-apr-2425-2026/
LOCATION:PW365 Weekly Prayer Group
CATEGORIES:Prayer Warriors 365 Group
ATTACH;FMTTYPE=image/jpeg:https://www.prayerwarriors365.com/wp-content/uploads/2026/04/The-Separation-Jesus-Said-Would-Come-The-Bride-YouTube-Thumbnail.jpg
ORGANIZER;CN="Prayer Warriors 365":MAILTO:contact@prayerwarriors365.com
END:VEVENT
END:VCALENDAR