BEGIN:VCALENDAR
VERSION:2.0
PRODID:-//Prayer Warriors 365 - ECPv6.15.20//NONSGML v1.0//EN
CALSCALE:GREGORIAN
METHOD:PUBLISH
X-ORIGINAL-URL:https://www.prayerwarriors365.com
X-WR-CALDESC:Events for Prayer Warriors 365
REFRESH-INTERVAL;VALUE=DURATION:PT1H
X-Robots-Tag:noindex
X-PUBLISHED-TTL:PT1H
BEGIN:VTIMEZONE
TZID:America/Chicago
BEGIN:DAYLIGHT
TZOFFSETFROM:-0600
TZOFFSETTO:-0500
TZNAME:CDT
DTSTART:20250309T080000
END:DAYLIGHT
BEGIN:STANDARD
TZOFFSETFROM:-0500
TZOFFSETTO:-0600
TZNAME:CST
DTSTART:20251102T070000
END:STANDARD
BEGIN:DAYLIGHT
TZOFFSETFROM:-0600
TZOFFSETTO:-0500
TZNAME:CDT
DTSTART:20260308T080000
END:DAYLIGHT
BEGIN:STANDARD
TZOFFSETFROM:-0500
TZOFFSETTO:-0600
TZNAME:CST
DTSTART:20261101T070000
END:STANDARD
BEGIN:DAYLIGHT
TZOFFSETFROM:-0600
TZOFFSETTO:-0500
TZNAME:CDT
DTSTART:20270314T080000
END:DAYLIGHT
BEGIN:STANDARD
TZOFFSETFROM:-0500
TZOFFSETTO:-0600
TZNAME:CST
DTSTART:20271107T070000
END:STANDARD
END:VTIMEZONE
BEGIN:VEVENT
DTSTART;TZID=America/Chicago:20260405T200000
DTEND;TZID=America/Chicago:20260405T210000
DTSTAMP:20260423T124311
CREATED:20260402T001301Z
LAST-MODIFIED:20260402T002043Z
UID:10285-1775419200-1775422800@www.prayerwarriors365.com
SUMMARY:🙏⚔️PW365 Daily Spiritual Warfare Prayer SUN\, APR 5/6\, 2026
DESCRIPTION:Today! Daily Spiritual Warfare Prayer\nSunday\, April 5\, 2026\, @ 8:00 PM CST\, Austin\, Texas \nPrayer Warriors 365 is a community of believers committed to daily intercessory prayer throughout the year. Through unified prayer\, members stand in the gap for individuals\, families\, communities\, and nations—seeking God’s guidance\, healing\, and breakthrough. By praying Scripture and lifting needs before the Lord each day\, Prayer Warriors 365 strengthens faith\, encourages spiritual unity\, and advances God’s work through the power of persistent\, faithful prayer. 🙏✨ \nJoin Zoom Meeting\nhttps://us02web.zoom.us/j/85106027120?pwd=ncRA5ooWAJzK6BJ0kax43bIIygc21r.1 \nMeeting ID: 851 0602 7120\nPasscode: 259563 \nPLEASE NOTE: We are now in Daylight Saving Time in the US and have lost an hour. Therefore\, to accommodate as many as possible\, we have set the time 30 minutes forward for US participants and 30 minutes backward for our International participants. (See Time conversion chart below). \nWe will begin in approximately one hour! \nThis is the Zoom invitation for our daily PW365 Spiritual Warfare 365 meeting beginning at 8:00 PM CST for those who would like to join us in daily intercessory prayer. \nCity Country Local Date Local Time Time Zone\nAustin USA Sun\, Apr 5\, 2026 8:00 pm CDT\nWashington DC USA Sun\, Apr 5\, 2026 9:00 pm EDT\nSalt Lake City USA Sun\, Apr 5\, 2026 7:00 pm MDT\nLos Angeles USA Sun\, Apr 5\, 2026 6:00 pm PDT\nCuritiba Brazil Sun\, Apr 5\, 2026 10:00 pm BRT\nTehran Iran Mon\, Apr 6\, 2026 4:30 am IRST\nIslamabad Pakistan Mon\, Apr 6\, 2026 6:00 am PKT\nBandung Indonesia Mon\, Apr 6\, 2026 8:00 am WIB\nTokyo Japan Mon\, Apr 6\, 2026 10:00 am JST\nMelbourne Australia Mon\, Apr 6\, 2026 11:00 am AEST \nTIME ZONE CONVERTER \nIf you would like to be taken off the daily email reminder list\, please let me know. \nBlessings always\, \nRegina \nJoin Zoom Meeting\nhttps://us02web.zoom.us/j/85106027120?pwd=ncRA5ooWAJzK6BJ0kax43bIIygc21r.1 \nMeeting ID: 851 0602 7120\nPasscode: 259563 \n— \nOne tap mobile\n+13462487799\,\,85106027120#\,\,\,\,*259563# US (Houston)\n+12532050468\,\,85106027120#\,\,\,\,*259563#
URL:https://www.prayerwarriors365.com/event/%f0%9f%99%8f%e2%9a%94%ef%b8%8fpw365-daily-spiritual-warfare-prayer-sun-apr-5-6-2026/
LOCATION:Restoration & Power of Prayer 2026 Beta\, United States
CATEGORIES:RPoP 2026 Beta Group
ATTACH;FMTTYPE=image/jpeg:https://www.prayerwarriors365.com/wp-content/uploads/2026/03/Daily-Prayer-image.jpg
ORGANIZER;CN="Prayer Warriors 365":MAILTO:contact@prayerwarriors365.com
END:VEVENT
END:VCALENDAR