BEGIN:VCALENDAR
VERSION:2.0
PRODID:-//Prayer Warriors 365 - ECPv6.15.20//NONSGML v1.0//EN
CALSCALE:GREGORIAN
METHOD:PUBLISH
X-ORIGINAL-URL:https://www.prayerwarriors365.com
X-WR-CALDESC:Events for Prayer Warriors 365
REFRESH-INTERVAL;VALUE=DURATION:PT1H
X-Robots-Tag:noindex
X-PUBLISHED-TTL:PT1H
BEGIN:VTIMEZONE
TZID:America/Chicago
BEGIN:DAYLIGHT
TZOFFSETFROM:-0600
TZOFFSETTO:-0500
TZNAME:CDT
DTSTART:20250309T080000
END:DAYLIGHT
BEGIN:STANDARD
TZOFFSETFROM:-0500
TZOFFSETTO:-0600
TZNAME:CST
DTSTART:20251102T070000
END:STANDARD
BEGIN:DAYLIGHT
TZOFFSETFROM:-0600
TZOFFSETTO:-0500
TZNAME:CDT
DTSTART:20260308T080000
END:DAYLIGHT
BEGIN:STANDARD
TZOFFSETFROM:-0500
TZOFFSETTO:-0600
TZNAME:CST
DTSTART:20261101T070000
END:STANDARD
BEGIN:DAYLIGHT
TZOFFSETFROM:-0600
TZOFFSETTO:-0500
TZNAME:CDT
DTSTART:20270314T080000
END:DAYLIGHT
BEGIN:STANDARD
TZOFFSETFROM:-0500
TZOFFSETTO:-0600
TZNAME:CST
DTSTART:20271107T070000
END:STANDARD
END:VTIMEZONE
BEGIN:VEVENT
DTSTART;TZID=America/Chicago:20260418T200000
DTEND;TZID=America/Chicago:20260418T210000
DTSTAMP:20260423T124438
CREATED:20260417T005756Z
LAST-MODIFIED:20260417T010028Z
UID:10330-1776542400-1776546000@www.prayerwarriors365.com
SUMMARY:🙏⚔️PW365 Daily Spiritual Warfare Prayer SAT\, APR 18/19\, 2026
DESCRIPTION:Today! Daily Spiritual Warfare Prayer\nSaturday\, April 18\, 2026\, @ 8:00 PM CST\, Austin\, Texas \nPrayer Warriors 365 is a community of believers committed to daily intercessory prayer throughout the year. Through unified prayer\, members stand in the gap for individuals\, families\, communities\, and nations—seeking God’s guidance\, healing\, and breakthrough. By praying Scripture and lifting needs before the Lord each day\, Prayer Warriors 365 strengthens faith\, encourages spiritual unity\, and advances God’s work through the power of persistent\, faithful prayer. 🙏✨ \nJoin Zoom Meeting\nhttps://us02web.zoom.us/j/85106027120?pwd=ncRA5ooWAJzK6BJ0kax43bIIygc21r.1 \nMeeting ID: 851 0602 7120\nPasscode: 259563 \nPLEASE NOTE: We are now in Daylight Saving Time in the US and have lost an hour. Therefore\, to accommodate as many as possible\, we have set the time 30 minutes forward for US participants and 30 minutes backward for our International participants. (See Time conversion chart below). \nWe will begin in approximately one hour! \nThis is the Zoom invitation for our daily PW365 Spiritual Warfare 365 meeting beginning at 8:00 PM CST for those who would like to join us in daily intercessory prayer. \nCity Country Local Date Local Time Time Zone\nAustin USA Sat\, Apr 18\, 2026 8:00 pm CDT\nHampton USA Sat\, Apr 18\, 2026 9:00 pm EDT\nDenver USA Sat\, Apr 18\, 2026 7:00 pm MDT\nLos Angeles USA Sat\, Apr 18\, 2026 6:00 pm PDT\nCuritiba Brazil Sat\, Apr 18\, 2026 10:00 pm BRT\nIslamabad Pakistan Sun\, Apr 19\, 2026 6:00 am PKT\nPerth Australia Sun\, Apr 19\, 2026 9:00 am AWST\nBandung Indonesia Sun\, Apr 19\, 2026 8:00 am WIB\nTokyo Japan Sun\, Apr 19\, 2026 10:00 am JST \nTIME ZONE CONVERTER \nIf you would like to be taken off the daily email reminder list\, please let me know. \nBlessings always\, \nRegina \nJoin Zoom Meeting\nhttps://us02web.zoom.us/j/85106027120?pwd=ncRA5ooWAJzK6BJ0kax43bIIygc21r.1 \nMeeting ID: 851 0602 7120\nPasscode: 259563 \n— \nOne tap mobile\n+13462487799\,\,85106027120#\,\,\,\,*259563# US (Houston)\n+12532050468\,\,85106027120#\,\,\,\,*259563#
URL:https://www.prayerwarriors365.com/event/%f0%9f%99%8f%e2%9a%94%ef%b8%8fpw365-daily-spiritual-warfare-prayer-mon-apr-13-14-2026-copy-copy-copy/
LOCATION:Daily Spiritual Warfare Prayer
CATEGORIES:Daily Intercessory PW365
ATTACH;FMTTYPE=image/jpeg:https://www.prayerwarriors365.com/wp-content/uploads/2026/03/Daily-Prayer-image.jpg
ORGANIZER;CN="Prayer Warriors 365":MAILTO:contact@prayerwarriors365.com
END:VEVENT
BEGIN:VEVENT
DTSTART;TZID=America/Chicago:20260419T200000
DTEND;TZID=America/Chicago:20260419T210000
DTSTAMP:20260423T124438
CREATED:20260418T000454Z
LAST-MODIFIED:20260419T002628Z
UID:10333-1776628800-1776632400@www.prayerwarriors365.com
SUMMARY:🙏⚔️PW365 Daily Spiritual Warfare Prayer SUN\, APR 19/20\, 2026
DESCRIPTION:Today! Daily Spiritual Warfare Prayer\nSunday\, April 19\, 2026\, @ 8:00 PM CST\, Austin\, Texas \nPrayer Warriors 365 is a community of believers committed to daily intercessory prayer throughout the year. Through unified prayer\, members stand in the gap for individuals\, families\, communities\, and nations—seeking God’s guidance\, healing\, and breakthrough. By praying Scripture and lifting needs before the Lord each day\, Prayer Warriors 365 strengthens faith\, encourages spiritual unity\, and advances God’s work through the power of persistent\, faithful prayer. 🙏✨ \nJoin Zoom Meeting\nhttps://us02web.zoom.us/j/85106027120?pwd=ncRA5ooWAJzK6BJ0kax43bIIygc21r.1 \nMeeting ID: 851 0602 7120\nPasscode: 259563 \nPLEASE NOTE: We are now in Daylight Saving Time in the US and have lost an hour. Therefore\, to accommodate as many as possible\, we have set the time 30 minutes forward for US participants and 30 minutes backward for our International participants. (See Time conversion chart below). \nWe will begin in approximately one hour! \nThis is the Zoom invitation for our daily PW365 Spiritual Warfare 365 meeting beginning at 8:00 PM CST for those who would like to join us in daily intercessory prayer. \nCity Country Local Date Local Time Time Zone\nAustin USA Sun\, Apr 19\, 2026 8:00 pm CDT\nHampton USA Sun\, Apr 19\, 2026 9:00 pm EDT\nDenver USA Sun\, Apr 19\, 2026 7:00 pm MDT\nLos Angeles USA Sun\, Apr 19\, 2026 6:00 pm PDT\nCuritiba Brazil Sun\, Apr 19\, 2026 10:00 pm BRT\nIslamabad Pakistan Mon\, Apr 20\, 2026 6:00 am PKT\nPerth Australia Mon\, Apr 20\, 2026 9:00 am AWST\nBandung Indonesia Mon\, Apr 20\, 2026 8:00 am WIB\nTokyo Japan Mon\, Apr 20\, 2026 10:00 am JST \nTIME ZONE CONVERTER \nIf you would like to be taken off the daily email reminder list\, please let me know. \nBlessings always\, \nRegina \nJoin Zoom Meeting\nhttps://us02web.zoom.us/j/85106027120?pwd=ncRA5ooWAJzK6BJ0kax43bIIygc21r.1 \nMeeting ID: 851 0602 7120\nPasscode: 259563 \n— \nOne tap mobile\n+13462487799\,\,85106027120#\,\,\,\,*259563# US (Houston)\n+12532050468\,\,85106027120#\,\,\,\,*259563#
URL:https://www.prayerwarriors365.com/event/pw365-daily-spiritual-warfare-prayer-sun-apr-1920-2026/
LOCATION:Daily Spiritual Warfare Prayer
CATEGORIES:Daily Intercessory PW365
ATTACH;FMTTYPE=image/jpeg:https://www.prayerwarriors365.com/wp-content/uploads/2026/03/Daily-Prayer-image.jpg
ORGANIZER;CN="Prayer Warriors 365":MAILTO:contact@prayerwarriors365.com
END:VEVENT
BEGIN:VEVENT
DTSTART;TZID=America/Chicago:20260420T200000
DTEND;TZID=America/Chicago:20260420T210000
DTSTAMP:20260423T124438
CREATED:20260419T001918Z
LAST-MODIFIED:20260419T002329Z
UID:10336-1776715200-1776718800@www.prayerwarriors365.com
SUMMARY:🙏⚔️PW365 Daily Spiritual Warfare Prayer MON\, APR 20/21\, 2026
DESCRIPTION:Today! Daily Spiritual Warfare Prayer\nMonday\, April 20\, 2026\, @ 8:00 PM CST\, Austin\, Texas \nPrayer Warriors 365 is a community of believers committed to daily intercessory prayer throughout the year. Through unified prayer\, members stand in the gap for individuals\, families\, communities\, and nations—seeking God’s guidance\, healing\, and breakthrough. By praying Scripture and lifting needs before the Lord each day\, Prayer Warriors 365 strengthens faith\, encourages spiritual unity\, and advances God’s work through the power of persistent\, faithful prayer. 🙏✨ \nJoin Zoom Meeting\nhttps://us02web.zoom.us/j/85106027120?pwd=ncRA5ooWAJzK6BJ0kax43bIIygc21r.1 \nMeeting ID: 851 0602 7120\nPasscode: 259563 \nPLEASE NOTE: We are now in Daylight Saving Time in the US and have lost an hour. Therefore\, to accommodate as many as possible\, we have set the time 30 minutes forward for US participants and 30 minutes backward for our International participants. (See Time conversion chart below). \nWe will begin in approximately one hour! \nThis is the Zoom invitation for our daily PW365 Spiritual Warfare 365 meeting beginning at 8:00 PM CST for those who would like to join us in daily intercessory prayer. \nAustin\, USA Mon\, Apr 20\, 2026 at 8:00 pm CDT\nHampton\, USA Mon\, Apr 20\, 2026 at 9:00 pm EDT\nDenver\, USA Mon\, Apr 20\, 2026 at 7:00 pm MDT\nLos Angeles\, USA Mon\, Apr 20\, 2026 at 6:00 pm PDT\nCuritiba\, Brazil Mon\, Apr 20\, 2026 at 10:00 pm BRT\nIslamabad\, Pakistan Tue\, Apr 21\, 2026 at 6:00 am PKT\nPerth\, Australia Tue\, Apr 21\, 2026 at 9:00 am AWST\nBandung\, Indonesia Tue\, Apr 21\, 2026 at 8:00 am WIB\nTokyo\, Japan Tue\, Apr 21\, 2026 at 10:00 am JST \nTIME ZONE CONVERTER \nIf you would like to be taken off the daily email reminder list\, please let me know. \nBlessings always\, \nRegina \nJoin Zoom Meeting\nhttps://us02web.zoom.us/j/85106027120?pwd=ncRA5ooWAJzK6BJ0kax43bIIygc21r.1 \nMeeting ID: 851 0602 7120\nPasscode: 259563 \n— \nOne tap mobile\n+13462487799\,\,85106027120#\,\,\,\,*259563# US (Houston)\n+12532050468\,\,85106027120#\,\,\,\,*259563#
URL:https://www.prayerwarriors365.com/event/pw365-daily-spiritual-warfare-prayer-mon-apr-2021-2026/
LOCATION:Daily Spiritual Warfare Prayer
CATEGORIES:Daily Intercessory PW365
ATTACH;FMTTYPE=image/jpeg:https://www.prayerwarriors365.com/wp-content/uploads/2026/03/Daily-Prayer-image.jpg
ORGANIZER;CN="Prayer Warriors 365":MAILTO:contact@prayerwarriors365.com
END:VEVENT
BEGIN:VEVENT
DTSTART;TZID=America/Chicago:20260421T200000
DTEND;TZID=America/Chicago:20260421T210000
DTSTAMP:20260423T124438
CREATED:20260421T000550Z
LAST-MODIFIED:20260421T225401Z
UID:10342-1776801600-1776805200@www.prayerwarriors365.com
SUMMARY:🙏⚔️PW365 Daily Spiritual Warfare Prayer TUES\, APR 21/22\, 2026
DESCRIPTION:Today! Daily Spiritual Warfare Prayer\nTuesday\, April 20\, 2026\, @ 8:00 PM CST\, Austin\, Texas \nPrayer Warriors 365 is a community of believers committed to daily intercessory prayer throughout the year. Through unified prayer\, members stand in the gap for individuals\, families\, communities\, and nations—seeking God’s guidance\, healing\, and breakthrough. By praying Scripture and lifting needs before the Lord each day\, Prayer Warriors 365 strengthens faith\, encourages spiritual unity\, and advances God’s work through the power of persistent\, faithful prayer. 🙏✨ \nJoin Zoom Meeting\nhttps://us02web.zoom.us/j/85106027120?pwd=ncRA5ooWAJzK6BJ0kax43bIIygc21r.1 \nMeeting ID: 851 0602 7120\nPasscode: 259563 \nPLEASE NOTE: We are now in Daylight Saving Time in the US and have lost an hour. Therefore\, to accommodate as many as possible\, we have set the time 30 minutes forward for US participants and 30 minutes backward for our International participants. (See Time conversion chart below). \nWe will begin in approximately one hour! \nThis is the Zoom invitation for our daily PW365 Spiritual Warfare 365 meeting beginning at 8:00 PM CST for those who would like to join us in daily intercessory prayer. \nAustin\, USA Tue\, Apr 21\, 2026 at 8:00 pm CDT\nHampton\, USA Tue\, Apr 21\, 2026 at 9:00 pm EDT\nDenver\, USA Tue\, Apr 21\, 2026 at 7:00 pm MDT\nLos Angeles\, USA Tue\, Apr 21\, 2026 at 6:00 pm PDT\nCuritiba\, Brazil Tue\, Apr 21\, 2026 at 10:00 pm BRT\nIslamabad\, Pakistan Wed\, Apr 22\, 2026 at 6:00 am PKT\nPerth\, Australia Wed\, Apr 22\, 2026 at 9:00 am AWST\nBandung\, Indonesia Wed\, Apr 22\, 2026 at 8:00 am WIB\nTokyo\, Japan Wed\, Apr 22\, 2026 at 10:00 am JST \nTIME ZONE CONVERTER \nIf you would like to be taken off the daily email reminder list\, please let me know. \nBlessings always\, \nRegina \nJoin Zoom Meeting\nhttps://us02web.zoom.us/j/85106027120?pwd=ncRA5ooWAJzK6BJ0kax43bIIygc21r.1 \nMeeting ID: 851 0602 7120\nPasscode: 259563 \n— \nOne tap mobile\n+13462487799\,\,85106027120#\,\,\,\,*259563# US (Houston)\n+12532050468\,\,85106027120#\,\,\,\,*259563#
URL:https://www.prayerwarriors365.com/event/pw365-daily-spiritual-warfare-prayer-tues-apr-2122-2026/
LOCATION:Daily Spiritual Warfare Prayer
CATEGORIES:Daily Intercessory PW365
ATTACH;FMTTYPE=image/jpeg:https://www.prayerwarriors365.com/wp-content/uploads/2026/03/Daily-Prayer-image.jpg
ORGANIZER;CN="Prayer Warriors 365":MAILTO:contact@prayerwarriors365.com
END:VEVENT
BEGIN:VEVENT
DTSTART;TZID=America/Chicago:20260422T200000
DTEND;TZID=America/Chicago:20260422T213000
DTSTAMP:20260423T124438
CREATED:20260421T225617Z
LAST-MODIFIED:20260421T230336Z
UID:10345-1776888000-1776893400@www.prayerwarriors365.com
SUMMARY:⚔️PW365: RPoP 2026 Beta 010 FULL ARMOR OF GOD! WED APR 22/23\, 2026 🙏
DESCRIPTION:Greetings\, \nThis week in Restoration & Power of Prayer – Message 010 – FULL ARMOR OF GOD and the vital role it plays in every believer’s life. The key truth is that we are in a spiritual battle—not against people\, but against unseen forces—and God has already provided everything we need to stand firm and walk in victory. \nDrawing from Ephesians 6\, we will explore each piece of armor and its spiritual significance. The BELT OF TRUTH anchors us in the cornerstone of our faith -the way\, the truth\, and the life\, Jesus Christ.  The BREASTPLATE OF RIGHTEOUSNESS guards our hearts\, reminding us that our right standing comes through Christ\, not our performance. The SHOD OUR FEET WITH THE GOSPEL OF PEACE enables us to stand firm and walk in the Good News of Jesus Christ in confidence\, especially in difficult circumstances. \nWe also learn how the SHIELD OF FAITH extinguishes the enemy’s attacks—doubt\, fear\, and lies—when we actively trust God’s promises. The HELMET OF SALVATION protects our minds\, reinforcing our identity in Christ and guarding our thoughts. Finally\, the double-edged SWORD OF THE SPIRIT\, which is the Word of God empowered by the Holy Spirit\, is our ONLY offensive weapon\, equipping us to speak truth\, taking down every power and principalities we encounter. \nA major emphasis of the message is that putting on the armor is a daily\, intentional act. It is not automatic; it requires awareness\, prayer\, and spiritual discipline. As we consistently “put on” the armor\, we become more equipped to stand strong\, resist the enemy\, and live in the authority God has given us. \nThe takeaway is simple but powerful: You are not defenseless. You are fully equipped. Stand firm\, stay rooted in truth\, and walk daily in the victory Christ has already secured. \nIn His love and service\,\nRestoration & Power of Prayer \nRegina M. Dick \nTHIS WEEK \nRestoration & Power of Prayer\n011 -FULL ARMOR OF GOD\n \nDATE: April 22/23\, 2026\nTIME: 8:00 PM C.S.T. \nWorld Time Converter \nRestoration & Power of Prayer Zoom Link \nJoin Zoom Meeting\nhttps://us02web.zoom.us/j/83688136753?pwd=QEeXEbHaViviOTHI5GbyVazbLGy24F.1 \nMeeting ID: 836 8813 6753\nPasscode: 850201 \nNOTE: New Meeting Times for everyone.   \nCity Country Local Date Local Time Time Zone\nAustin USA Wed\, Apr 22\, 2026 8:00 pm CDT\nHampton USA Wed\, Apr 22\, 2026 9:00 pm EDT\nDenver USA Wed\, Apr 22\, 2026 7:00 pm MDT\nLos Angeles USA Wed\, Apr 22\, 2026 6:00 pm PDT\nCuritiba Brazil Wed\, Apr 22\, 2026 10:00 pm BRT\nIslamabad Pakistan Thu\, Apr 23\, 2026 6:00 am PKT\nPerth Australia Thu\, Apr 23\, 2026 9:00 am AWST\nBandung Indonesia Thu\, Apr 23\, 2026 8:00 am WIB\nTokyo Japan Thu\, Apr 23\, 2026 10:00 am JST \n World Time Converter
URL:https://www.prayerwarriors365.com/event/pw365-rpop-2026-beta-010-full-armor-of-god-wed-arr-22-23-2026/
LOCATION:Restoration & Power of Prayer 2026 Beta\, United States
CATEGORIES:RPoP 2026 Beta Group
ATTACH;FMTTYPE=image/jpeg:https://www.prayerwarriors365.com/wp-content/uploads/2026/04/010-RPoP-Full-Armor-of-God-Image.jpg
ORGANIZER;CN="Prayer Warriors 365":MAILTO:contact@prayerwarriors365.com
END:VEVENT
BEGIN:VEVENT
DTSTART;TZID=America/Chicago:20260423T200000
DTEND;TZID=America/Chicago:20260423T210000
DTSTAMP:20260423T124438
CREATED:20260421T230435Z
LAST-MODIFIED:20260421T230738Z
UID:10348-1776974400-1776978000@www.prayerwarriors365.com
SUMMARY:🙏⚔️PW365 Daily Spiritual Warfare Prayer THURS\, APR 23/24\, 2026
DESCRIPTION:Today! Daily Spiritual Warfare Prayer\nThursday\, April 23\, 2026\, @ 8:00 PM CST\, Austin\, Texas \nPrayer Warriors 365 is a community of believers committed to daily intercessory prayer throughout the year. Through unified prayer\, members stand in the gap for individuals\, families\, communities\, and nations—seeking God’s guidance\, healing\, and breakthrough. By praying Scripture and lifting needs before the Lord each day\, Prayer Warriors 365 strengthens faith\, encourages spiritual unity\, and advances God’s work through the power of persistent\, faithful prayer. 🙏✨ \nJoin Zoom Meeting\nhttps://us02web.zoom.us/j/85106027120?pwd=ncRA5ooWAJzK6BJ0kax43bIIygc21r.1 \nMeeting ID: 851 0602 7120\nPasscode: 259563 \nPLEASE NOTE: We are now in Daylight Saving Time in the US and have lost an hour. Therefore\, to accommodate as many as possible\, we have set the time 30 minutes forward for US participants and 30 minutes backward for our International participants. (See Time conversion chart below). \nWe will begin in approximately one hour! \nThis is the Zoom invitation for our daily PW365 Spiritual Warfare 365 meeting beginning at 8:00 PM CST for those who would like to join us in daily intercessory prayer. \nCity Country Local Date Local Time Time Zone\nAustin USA Thu\, Apr 23\, 2026 8:00 pm CDT\nHampton USA Thu\, Apr 23\, 2026 9:00 pm EDT\nDenver USA Thu\, Apr 23\, 2026 7:00 pm MDT\nLos Angeles USA Thu\, Apr 23\, 2026 6:00 pm PDT\nCuritiba Brazil Thu\, Apr 23\, 2026 10:00 pm BRT\nIslamabad Pakistan Fri\, Apr 24\, 2026 6:00 am PKT\nPerth Australia Fri\, Apr 24\, 2026 9:00 am AWST\nBandung Indonesia Fri\, Apr 24\, 2026 8:00 am WIB\nTokyo Japan Fri\, Apr 24\, 2026 10:00 am JST \nTIME ZONE CONVERTER \nIf you would like to be taken off the daily email reminder list\, please let me know. \nBlessings always\, \nRegina \nJoin Zoom Meeting\nhttps://us02web.zoom.us/j/85106027120?pwd=ncRA5ooWAJzK6BJ0kax43bIIygc21r.1 \nMeeting ID: 851 0602 7120\nPasscode: 259563 \n— \nOne tap mobile\n+13462487799\,\,85106027120#\,\,\,\,*259563# US (Houston)\n+12532050468\,\,85106027120#\,\,\,\,*259563#
URL:https://www.prayerwarriors365.com/event/pw365-daily-spiritual-warfare-prayer-thurs-apr-2324-2026/
LOCATION:Daily Spiritual Warfare Prayer
CATEGORIES:Daily Intercessory PW365
ATTACH;FMTTYPE=image/jpeg:https://www.prayerwarriors365.com/wp-content/uploads/2026/03/Daily-Prayer-image.jpg
ORGANIZER;CN="Prayer Warriors 365":MAILTO:contact@prayerwarriors365.com
END:VEVENT
BEGIN:VEVENT
DTSTART;TZID=America/Chicago:20260424T200000
DTEND;TZID=America/Chicago:20260424T213000
DTSTAMP:20260423T124438
CREATED:20260423T160348Z
LAST-MODIFIED:20260423T161151Z
UID:10350-1777060800-1777066200@www.prayerwarriors365.com
SUMMARY:🙏PW365: Stay Ready? The Separation Jesus Said Would Come (Video)- APR 24/25\, 2026 ⚔️
DESCRIPTION:THIS WEEK\nYouTube Video\nSTAY READY! THE SEPARATION JESUS SAID WOULD COME (Video) \n\n\n\nContinuing from what Nancy Bergeron presented last week\, let’s move on to deeper spiritual food for those who sense the “Holy Hunger.” This week\, our Friday night PW365 Group will present the YouTube video titled “The Separation Jesus Said Would Come.” Stay ready? \n\n\n\nI want to share an important message that speaks directly to the times we are living in. It centers on the separation Jesus said would come before the unfolding of end-time events. Throughout Scripture\, we see a consistent pattern—before God moves in a significant way\, He first separates. He draws a clear distinction between those who are fully His and those who are not\, between what is holy and what is compromised. \nThis message reveals that such a separation is not only coming\, but already beginning to take place in our generation. \n\n\n\n\n\n\n\n\n\n\nTHIS WEEK :\nYouTube\nBible Prophecy Channel\nSTAY READY! THE SEPARATION JESUS SAID WOULD COME (Video) \nZOOM ROOM LINK: \nJoin Zoom Meeting Link\nhttps://us02web.zoom.us/j/85255014480\nMeeting ID: 852 5501 4480 \nTIME AND DATE CONVERSION \nNOTE: BACK TO SAVING TIME IN THE US : \nTIME SCHEDULE: \nCity Country Local Date Local Time Time Zone\nAustin USA Fri\, Apr 24\, 2026 8:00 pm CDT\nMemphis USA Fri\, Apr 24\, 2026 8:00 pm CDT\nPeoria USA Fri\, Apr 24\, 2026 8:00 pm CDT\nMiami USA Fri\, Apr 24\, 2026 9:00 pm EDT\nWashington DC USA Fri\, Apr 24\, 2026 9:00 pm EDT\nColumbia USA Fri\, Apr 24\, 2026 9:00 pm EDT\nCuritiba Brazil Fri\, Apr 24\, 2026 10:00 pm BRT\nIslamabad Pakistan Sat\, Apr 25\, 2026 6:00 am PKT\nTehran Iran Sat\, Apr 25\, 2026 4:30 am IRST\nBandung Indonesia Sat\, Apr 25\, 2026 8:00 am WIB\nPerth Australia Sat\, Apr 25\, 2026 9:00 am AWST\nTokyo Japan Sat\, Apr 25\, 2026 10:00 am JST \nWORLD TIME ZONE CONVERTER:\nhttps://www.timeanddate.com/worldclock/converter.html \nOne tap mobile\n+13462487799\,\,85255014480# US (Houston)\n+12532050468\,\,85255014480# US
URL:https://www.prayerwarriors365.com/event/pw365-stay-ready-the-separation-jesus-said-would-come-video-apr-2425-2026/
LOCATION:PW365 Weekly Prayer Group
CATEGORIES:Prayer Warriors 365 Group
ATTACH;FMTTYPE=image/jpeg:https://www.prayerwarriors365.com/wp-content/uploads/2026/04/The-Separation-Jesus-Said-Would-Come-The-Bride-YouTube-Thumbnail.jpg
ORGANIZER;CN="Prayer Warriors 365":MAILTO:contact@prayerwarriors365.com
END:VEVENT
BEGIN:VEVENT
DTSTART;TZID=America/Chicago:20260425T090000
DTEND;TZID=America/Chicago:20260425T100000
DTSTAMP:20260423T124438
CREATED:20260423T163824Z
LAST-MODIFIED:20260423T165537Z
UID:10353-1777107600-1777111200@www.prayerwarriors365.com
SUMMARY:🙏PW365: Pakistan Youth - Victory Through Prayer -SAT\, APR 24/25\, 2026 ⚔️
DESCRIPTION:Pakistan Prayer Warriors 365\nYouth Group\nVictory Through Prayer \nThe Door was Open To Us for Powerful Prayer\nIt is through the redeeming power of Jesus Christ\, the atonement of the cross\, that we can stand before God in prayer —the door was opened to the Throne Room of God. \nJesus had no limits. Through His redemption\, we dare not limit God by our feeble (limited) understanding but rather embrace this Divine opportunity to come into the Throne room before Him in the name of His beloved Son\, Jesus Christ. \n“ The Cross is not the cross of a man but the Cross of God God can never be realized in human experience \, and t he Cross of . The Cross is the exhibition of the nature of God\, the gateway whereby any individual of the human race can enter into union with God. When we get to the Cross\, we do not go through it; we abide in the life to which the Cross is the gateway .”Oswald Chambers\, My Utmost For His Highes \nAs a true Believer in Jesus Christ\, our highest and greatest calling is prayer. \nJoin Zoom Meeting\nhttps://us02web.zoom.us/j/86900794963?pwd=6Pt4QttuZ5G9DrNnsCovTfStElizfA.1 \nMeeting agenda\nhttps://docs.zoom.us/agenda/doc/8938d031-2cf7-4875-a209-b8bcf645c046?from=chext \nMeeting ID: 869 0079 4963\nPasscode: 290429 \nTIME ZONE CONVERSION \nCity Country Local Date Local Time Time Zone\nAustin USA Sat\, Apr 25\, 2026 9:00 am CDT\nIslamabad Pakistan Sat\, Apr 25\, 2026 7:00 pm PKT
URL:https://www.prayerwarriors365.com/event/%f0%9f%99%8fpw365-pakistan-youth-victory-through-prayer-sat-apr-24-25-2026-%e2%9a%94%ef%b8%8f/
LOCATION:PW365 Pakistan\, Pakistan
CATEGORIES:PW365 Pakistan
ATTACH;FMTTYPE=image/jpeg:https://www.prayerwarriors365.com/wp-content/uploads/2026/02/001-RPoP-Kajabi-Why-Pray-Image-2025.jpg
ORGANIZER;CN="Prayer Warriors 365":MAILTO:contact@prayerwarriors365.com
END:VEVENT
END:VCALENDAR